BEGIN:VCALENDAR
PRODID:-//eluceo/ical//2.0/EN
VERSION:2.0
CALSCALE:GREGORIAN
BEGIN:VEVENT
UID:30ab023c1103d65ffaba65d05fd2a516
DTSTAMP:20260423T025240Z
SUMMARY:3:00 PM Outdoor Exploration at River Garden
DESCRIPTION:Jewish Federation & Foundation of Northeast Florida\nCommunity 
 Calendar\nhttps://jewishjacksonville.org/jewish-federation-of-jacksonville
 -calendar/300-pm-outdoor-exploration-at-river-garden\n\nCome explore the o
 utdoors at River Garden!\n\nOutdoor exploration including turtle feeding a
 nd painted rock-hunting.\n\nChildren must be accompanied by parents or gr
 andparents.\n\n \n\n \n\n 
DTSTART;TZID=America/New_York:20190922T030000
DTEND;TZID=America/New_York:20190922T160000
END:VEVENT
END:VCALENDAR
