BEGIN:VCALENDAR
PRODID:-//eluceo/ical//2.0/EN
VERSION:2.0
CALSCALE:GREGORIAN
BEGIN:VEVENT
UID:ab8e3c3676c091a33da368c874d7063f
DTSTAMP:20260423T192101Z
SUMMARY:3 PM - JCA - The Berman Family JCA Concert Series Presents Benjamin
  Baker
DESCRIPTION:Jewish Federation & Foundation of Northeast Florida\nCommunity 
 Calendar\nhttps://jewishjacksonville.org/jewish-federation-of-jacksonville
 -calendar/3-pm-jca-the-berman-family-jca-concert-series-presents-benjamin-
 baker\n\n3 PM - JCA - The Berman Family JCA Concert Series Presents Benjam
 in Baker\n\nMore Information Coming Soon!\n\nQuestions? Please contact Hea
 ther Terrill at heather.terrill@jcajax.org or call (904) 730 – 2100 ext.
  265.
DTSTART;TZID=America/New_York:20240317T150000
DTEND;TZID=America/New_York:20240317T170000
END:VEVENT
END:VCALENDAR
