BEGIN:VCALENDAR
PRODID:-//eluceo/ical//2.0/EN
VERSION:2.0
CALSCALE:GREGORIAN
BEGIN:VEVENT
UID:58d096ce2ac6cadc355ca2d5bc76134e
DTSTAMP:20260423T010937Z
SUMMARY:3 PM - JCA The Berman Family JCA Concert Series Benett Tsai\, Celli
 st
DESCRIPTION:Jewish Federation & Foundation of Northeast Florida\nCommunity 
 Calendar\nhttps://jewishjacksonville.org/jewish-federation-of-jacksonville
 -calendar/3-pm-jca-the-berman-family-jca-concert-series-benett-tsai-cellis
 t\n\nMore information is coming soon! Contact heather.terrill@jcajax.org f
 or any questions.
DTSTART;TZID=America/New_York:20260118T150000
DTEND;TZID=America/New_York:20260118T163000
END:VEVENT
END:VCALENDAR
