BEGIN:VCALENDAR
PRODID:-//eluceo/ical//2.0/EN
VERSION:2.0
CALSCALE:GREGORIAN
BEGIN:VEVENT
UID:441bea2614e3ab4109501fe7404b596b
DTSTAMP:20260424T033837Z
SUMMARY:3 PM - JCA - 2023 JCA Cultural Arts Festival - Narrow Bridge - Film
   - Nov
DESCRIPTION:Jewish Federation & Foundation of Northeast Florida\nCommunity 
 Calendar\nhttps://jewishjacksonville.org/jewish-federation-of-jacksonville
 -calendar/3-pm-jca-2023-jca-cultural-arts-festival-narrow-bridge-film-nov\
 n\n2022 | Drama | 1h 20m\nSun\, Nov 5 | 3 pm\nWith a moderated discussion 
 to follow the film.\nJewish Community Alliance\, 8505 San Jose Boulevard\n
 \nClick here to learn more and register.\n\nFor more information\, please 
 email cafest@jcajax.org.
DTSTART;TZID=America/New_York:20231105T150000
DTEND;TZID=America/New_York:20231105T170000
END:VEVENT
END:VCALENDAR
