BEGIN:VCALENDAR
PRODID:-//eluceo/ical//2.0/EN
VERSION:2.0
CALSCALE:GREGORIAN
BEGIN:VEVENT
UID:3ae11c7c178684908db2113b139731d4
DTSTAMP:20260423T211157Z
SUMMARY:2PM JJC Open House
DESCRIPTION:Jewish Federation & Foundation of Northeast Florida\nCommunity 
 Calendar\nhttps://jewishjacksonville.org/jewish-federation-of-jacksonville
 -calendar/2pm-jjc-open-house-48676\n\n2PM JJC Open House
DTSTART;TZID=America/New_York:20130818T140000
DTEND;TZID=America/New_York:20130818T163000
END:VEVENT
END:VCALENDAR
