BEGIN:VCALENDAR
PRODID:-//eluceo/ical//2.0/EN
VERSION:2.0
CALSCALE:GREGORIAN
BEGIN:VEVENT
UID:43ae7ac607361a1cf29e00dcc42c11f7
DTSTAMP:20260421T194919Z
SUMMARY:2PM JFCS PJ Library Tu B'Shevat Nature Walk and Family Picnic
DESCRIPTION:Jewish Federation & Foundation of Northeast Florida\nCommunity 
 Calendar\nhttps://jewishjacksonville.org/jewish-federation-of-jacksonville
 -calendar/2pm-jfcs-pj-library-tu-bshevat-nature-walk-and-family-picnic\n\n
 More details to follow.
DTSTART;TZID=America/New_York:20190127T140000
DTEND;TZID=America/New_York:20190127T160000
END:VEVENT
END:VCALENDAR
