BEGIN:VCALENDAR
PRODID:-//eluceo/ical//2.0/EN
VERSION:2.0
CALSCALE:GREGORIAN
BEGIN:VEVENT
UID:05075926a2d80d51a4a02e2c4884b409
DTSTAMP:20260421T142614Z
SUMMARY:11AM JCA 2nd Annual Sukkot Family Fun Run 
DESCRIPTION:Jewish Federation & Foundation of Northeast Florida\nCommunity 
 Calendar\nhttps://jewishjacksonville.org/jewish-federation-of-jacksonville
 -calendar/2nd-annual-jca-sukkot-family-fun-run\n\nJoin your JCA family as 
 we celebrate the Sukkot holiday! The festivities begin with our 2nd Annual
  JCA Family Fun Run on Sunday\, October 12 at 11 am. Holiday programs are 
 offered to our valued members at no cost. Advance registration is required
  by October 2. RSVP by calling ext 228. For more information\, visit www.j
 cajax.org.\n\nclick here to register online
DTSTART;TZID=America/New_York:20141012T110000
DTEND;TZID=America/New_York:20141012T140000
END:VEVENT
END:VCALENDAR
