BEGIN:VCALENDAR
PRODID:-//eluceo/ical//2.0/EN
VERSION:2.0
CALSCALE:GREGORIAN
BEGIN:VEVENT
UID:739ffa21eb4fdf1a9265b7f290a32037
DTSTAMP:20260426T030327Z
SUMMARY:2:30PM Main Library Jacqueline Woodson Book Presentation and Signin
DESCRIPTION:Jewish Federation & Foundation of Northeast Florida\nCommunity 
 Calendar\nhttps://jewishjacksonville.org/jewish-federation-of-jacksonville
 -calendar/230-pm-main-library-jaqueline-woodson-book-signing\n\nBANNED Aut
 hor Jacqueline Woodson presents her memoir\, “Brown Girl Dreaming\,” a
 nd shares thoughts on censorship and finding her voice through writing. He
 r presentation begins at 2:30 pm\, October 4\, at Main Library. A book s
 igning follows the presentation.\n\n \n\n“Brown Girl Dreaming” has re
 ceived the Coretta Scott King\, Newbery Honor and 2014 National Book Award
 s. The Jacksonville Public Library selected “Brown Girl Dreaming” for 
 the 2015 JAX READS community read in September.
DTSTART;TZID=America/New_York:20151004T143000
DTEND;TZID=America/New_York:20151004T163000
END:VEVENT
END:VCALENDAR
