BEGIN:VCALENDAR
PRODID:-//eluceo/ical//2.0/EN
VERSION:2.0
CALSCALE:GREGORIAN
BEGIN:VEVENT
UID:c4a121a9267cf2d2f934acc3dad2c88c
DTSTAMP:20260423T061135Z
SUMMARY:2:15 PM Jacksonville Jewish Center Minhah Tisha B'Av
DESCRIPTION:Jewish Federation & Foundation of Northeast Florida\nCommunity 
 Calendar\nhttps://jewishjacksonville.org/jewish-federation-of-jacksonville
 -calendar/215-pm-jacksonville-jewish-center-minhah-tisha-bav\n\nTisha B'Av
  Minhah\n\nSunday\, July 18⋅2:15 – 3:00pm
DTSTART;TZID=America/New_York:20210718T141500
DTEND;TZID=America/New_York:20210718T150000
END:VEVENT
END:VCALENDAR
