BEGIN:VCALENDAR
PRODID:-//eluceo/ical//2.0/EN
VERSION:2.0
CALSCALE:GREGORIAN
BEGIN:VEVENT
UID:8e354d4681641258c4f75677185d5054
DTSTAMP:20260426T024224Z
SUMMARY:Evening | JFCS 2025 Annual Event
DESCRIPTION:Jewish Federation & Foundation of Northeast Florida\nCommunity 
 Calendar\nhttps://jewishjacksonville.org/jewish-federation-of-jacksonville
 -calendar/2025-annual-event\n\nSAVE THE DATE for the JFCS 2025 Annual Even
 t\n\nDetails coming soon
DTSTART;TZID=America/New_York:20250403T000000
DTEND;TZID=America/New_York:20250403T235959
END:VEVENT
END:VCALENDAR
