BEGIN:VCALENDAR
PRODID:-//eluceo/ical//2.0/EN
VERSION:2.0
CALSCALE:GREGORIAN
BEGIN:VEVENT
UID:a70c0d03a3f076755572fa017cad989a
DTSTAMP:20260420T173727Z
SUMMARY:5:30 pm -  JCA Chanukkah Extravaganza
DESCRIPTION:Jewish Federation & Foundation of Northeast Florida\nCommunity 
 Calendar\nhttps://jewishjacksonville.org/jewish-federation-of-jacksonville
 -calendar/2024-jca-chanukkah-extravaganza\n\nStay tuned for more details!
  
DTSTART;TZID=America/New_York:20241226T173000
DTEND;TZID=America/New_York:20241226T193000
END:VEVENT
END:VCALENDAR
