BEGIN:VCALENDAR
PRODID:-//eluceo/ical//2.0/EN
VERSION:2.0
CALSCALE:GREGORIAN
BEGIN:VEVENT
UID:39d8b6ac51f3719ff655ac069761ab6f
DTSTAMP:20260421T043007Z
SUMMARY:6:30PM FUNDRAISER Federation Women's Division Girlfriend Connection
DESCRIPTION:Jewish Federation & Foundation of Northeast Florida\nCommunity 
 Calendar\nhttps://jewishjacksonville.org/jewish-federation-of-jacksonville
 -calendar/2016-womens-division-girlfriend-connection\n\n6:30 p.m. at the J
 acksonville Jewish Center. Guest speaker: Rachel Cohen Gerrol.
DTSTART;TZID=America/New_York:20160519T183000
DTEND;TZID=America/New_York:20160519T223000
END:VEVENT
END:VCALENDAR
