BEGIN:VCALENDAR
PRODID:-//eluceo/ical//2.0/EN
VERSION:2.0
CALSCALE:GREGORIAN
BEGIN:VEVENT
UID:add7b0471c78ea0ea6ee1805688a34bd
DTSTAMP:20260420T155532Z
SUMMARY:2:00 PM PJ Library Makes Shabbat Boxes
DESCRIPTION:Jewish Federation & Foundation of Northeast Florida\nCommunity 
 Calendar\nhttps://jewishjacksonville.org/jewish-federation-of-jacksonville
 -calendar/200-pm-pj-library-makes-shabbat-boxes\n\nMore details coming soo
 n
DTSTART;TZID=America/New_York:20171022T140000
DTEND;TZID=America/New_York:20171022T160000
END:VEVENT
END:VCALENDAR
