BEGIN:VCALENDAR
PRODID:-//eluceo/ical//2.0/EN
VERSION:2.0
CALSCALE:GREGORIAN
BEGIN:VEVENT
UID:d6be6ec5e78220ef2241beec0b97e2db
DTSTAMP:20260424T033829Z
SUMMARY:2:00 PM Jacksonville Jewish Center Shofar Blowing @ Jax Beach w/Haz
 zan
DESCRIPTION:Jewish Federation & Foundation of Northeast Florida\nCommunity 
 Calendar\nhttps://jewishjacksonville.org/jewish-federation-of-jacksonville
 -calendar/200-pm-jacksonville-jewish-center-shofar-blowing-jax-beach-whazz
 an\n\nShofar Blowing at Jax Beach with Rabbi Lubliner 
DTSTART;TZID=America/New_York:20210822T140000
DTEND;TZID=America/New_York:20210822T150000
END:VEVENT
END:VCALENDAR
