BEGIN:VCALENDAR
PRODID:-//eluceo/ical//2.0/EN
VERSION:2.0
CALSCALE:GREGORIAN
BEGIN:VEVENT
UID:4018d129566678e9a065a40e451018dc
DTSTAMP:20260424T175044Z
SUMMARY:2:00 PM Federation Shalom Jax Film Screening
DESCRIPTION:Jewish Federation & Foundation of Northeast Florida\nCommunity 
 Calendar\nhttps://jewishjacksonville.org/jewish-federation-of-jacksonville
 -calendar/200-pm-federation-shalom-jax-film-screening\n\nShalom Jacksonvil
 le Presents: The Outrageous Sophie Tucker\n\n \n\nLast summer we brought 
 you Welcome Kutshers - The Last Catskills Resort and this summer\, we're e
 xcited to bring you The Outrageous Sophie Tucker!\n\n \n\nJoin us at Rive
 r Garden Senior Services for this special screening.\n\n \n\nOnline regis
 tration opening soon!
DTSTART;TZID=America/New_York:20160626T140000
DTEND;TZID=America/New_York:20160626T160000
END:VEVENT
END:VCALENDAR
