BEGIN:VCALENDAR
PRODID:-//eluceo/ical//2.0/EN
VERSION:2.0
CALSCALE:GREGORIAN
BEGIN:VEVENT
UID:890ebd48122a49599cc3df4e109147a1
DTSTAMP:20260423T041936Z
SUMMARY:2:00 JFCS Holocaust Survivor Family Gathering
DESCRIPTION:Jewish Federation & Foundation of Northeast Florida\nCommunity 
 Calendar\nhttps://jewishjacksonville.org/jewish-federation-of-jacksonville
 -calendar/200-jfcs-holocaust-survivor-family-gathering\n\nHolocaust Family
  Gathering\, consisting of Holocaust survivors and their children\, will c
 elebrate Hanukkah with a musical performance of Hanukkah\, Israeli\, and t
 raditional music by the Kol Train musical ensemble. A gourmet light Latka 
 lunch will be served. \n\nPlease RSVP to wkuvin@jfcsjax.org
DTSTART;TZID=America/New_York:20161218T140000
DTEND;TZID=America/New_York:20161218T160000
END:VEVENT
END:VCALENDAR
