BEGIN:VCALENDAR
PRODID:-//eluceo/ical//2.0/EN
VERSION:2.0
CALSCALE:GREGORIAN
BEGIN:VEVENT
UID:3601bfd4d093695e97cf6970deaaafbf
DTSTAMP:20260423T025618Z
SUMMARY:9:00 AM - JJC Bar Mitzvah
DESCRIPTION:Jewish Federation & Foundation of Northeast Florida\nCommunity 
 Calendar\nhttps://jewishjacksonville.org/jewish-federation-of-jacksonville
 -calendar/20-jacksonville-jewish-center-bar-mitzvah\n\nJJC Bar Mitzvah
DTSTART;TZID=America/New_York:20170805T090000
DTEND;TZID=America/New_York:20170806T120000
END:VEVENT
END:VCALENDAR
