BEGIN:VCALENDAR
PRODID:-//eluceo/ical//2.0/EN
VERSION:2.0
CALSCALE:GREGORIAN
BEGIN:VEVENT
UID:dbb37b15e75f8253b94c78516bdc345b
DTSTAMP:20260425T133418Z
SUMMARY:2 PM JCA Spring Cottage\, Kinkade Style
DESCRIPTION:Jewish Federation & Foundation of Northeast Florida\nCommunity 
 Calendar\nhttps://jewishjacksonville.org/jewish-federation-of-jacksonville
 -calendar/2-pm-jca-spring-cottage-kinkade-style\n\nSpring Cottage\, Kinkad
 e Style \n\nThis two-day class is dedicated to painting a lovely garden co
 ttage surrounded by quaint paths and flowers in oil or acrylic. \n\nWed\, 
 Apr 6 and 20 | 2 - 5 pm \n$60 | Valued member $40 \n\nFor more informatio
 n\, please contact Laura Anderson at laura.anderson@jcajax.org.
DTSTART;TZID=America/New_York:20220406T140000
DTEND;TZID=America/New_York:20220406T170000
END:VEVENT
END:VCALENDAR
