BEGIN:VCALENDAR
PRODID:-//eluceo/ical//2.0/EN
VERSION:2.0
CALSCALE:GREGORIAN
BEGIN:VEVENT
UID:52a0e0c4d49637afb90256ef6091264b
DTSTAMP:20260424T094054Z
SUMMARY:2 PM JCA Festival Book of Secrets (Zoom)
DESCRIPTION:Jewish Federation & Foundation of Northeast Florida\nCommunity 
 Calendar\nhttps://jewishjacksonville.org/jewish-federation-of-jacksonville
 -calendar/2-pm-jca-festival-book-of-secrets-zoom\n\nEngagement for older e
 lementary and middle school readers in partnership with PJ Library.\n\nThi
 s exciting graphic novel weaves together a series of puzzling mystical Jew
 ish stories into a daring adventure tale\; following siblings Rose and Ben
  as they search for their missing grandparents and learn why they have inh
 erited the responsibility to protect the book--and the Jewish people.\n\nA
 uthor and illustrator\, Rabbi Mat Tonti\, will lead Jacksonville students 
 in a hands-on\, interactive virtual ...
DTSTART;TZID=America/New_York:20201108T140000
DTEND;TZID=America/New_York:20201108T150000
END:VEVENT
END:VCALENDAR
