BEGIN:VCALENDAR
PRODID:-//eluceo/ical//2.0/EN
VERSION:2.0
CALSCALE:GREGORIAN
BEGIN:VEVENT
UID:bc5b85bf5f63207014abf4ad2977396d
DTSTAMP:20260423T141844Z
SUMMARY:2 PM Growing Up Loving Henri Panel Discussion
DESCRIPTION:Jewish Federation & Foundation of Northeast Florida\nCommunity 
 Calendar\nhttps://jewishjacksonville.org/jewish-federation-of-jacksonville
 -calendar/2-pm-growing-up-loving-henri-panel-discussion\n\nHolocaust Remem
 brance Programming Series Honors Holocaust Survivor & Philanthropist Henri
  Landwirth Legacy with Two Events\n\nApril 8 through April 10  Loving Hen
 ri Film Screening\n\nWatch the documentary Loving Henri. Learn how Landwir
 th survived five concentration camps\, immigrated to the U.S. and rebuilt 
 his shattered life\, driving by love and an intense desire to heal the wor
 ld.\n\nApril 11\, 2 p.m. Sunday  Growing Up Loving Henri Panel Discussion
  Webinar\n\n Attend the Growing Up Lovin...
DTSTART;TZID=America/New_York:20210411T140000
DTEND;TZID=America/New_York:20210411T160000
END:VEVENT
END:VCALENDAR
