BEGIN:VCALENDAR
PRODID:-//eluceo/ical//2.0/EN
VERSION:2.0
CALSCALE:GREGORIAN
BEGIN:VEVENT
UID:7e3b9f2e07abaf4311b839fc7114ddd6
DTSTAMP:20260424T022056Z
SUMMARY:1PM JCA Youth Basketball Skills Assessment
DESCRIPTION:Jewish Federation & Foundation of Northeast Florida\nCommunity 
 Calendar\nhttps://jewishjacksonville.org/jewish-federation-of-jacksonville
 -calendar/1pm-jca-youth-basketball-skills-assessment\n\nChildren's Program
 \n\nJCA Youth Basketball Skills Assessment 1-3pm\n\nhttp://reg.jcajax.org/
 OnlineEdge/programlist.html
DTSTART;TZID=America/New_York:20160605T130000
DTEND;TZID=America/New_York:20160605T150000
END:VEVENT
END:VCALENDAR
