BEGIN:VCALENDAR
PRODID:-//eluceo/ical//2.0/EN
VERSION:2.0
CALSCALE:GREGORIAN
BEGIN:VEVENT
UID:afecc96ed237ddf1b8e60987b3360efb
DTSTAMP:20260420T221305Z
SUMMARY:1PM JCA Jewish Book Festival
DESCRIPTION:Jewish Federation & Foundation of Northeast Florida\nCommunity 
 Calendar\nhttps://jewishjacksonville.org/jewish-federation-of-jacksonville
 -calendar/1pm-jca-jewish-book-festival-8523\n\n1PM JCA Jewish Book Festiva
 l - John Schwartz
DTSTART;TZID=America/New_York:20131108T130000
DTEND;TZID=America/New_York:20131108T150000
END:VEVENT
END:VCALENDAR
