BEGIN:VCALENDAR
PRODID:-//eluceo/ical//2.0/EN
VERSION:2.0
CALSCALE:GREGORIAN
BEGIN:VEVENT
UID:196bc15b3046ee41a111eaeb5d0ab781
DTSTAMP:20260422T055354Z
SUMMARY:1PM HOME Jacksonville Jaguars vs. Houston Texans
DESCRIPTION:Jewish Federation & Foundation of Northeast Florida\nCommunity 
 Calendar\nhttps://jewishjacksonville.org/jewish-federation-of-jacksonville
 -calendar/1pm-home-jacksonville-jaguars-vs-houston-texans\n\nHome Game - 
  Jacksonville Jaguars vs. Houston Texans
DTSTART;TZID=America/New_York:20151018T130000
DTEND;TZID=America/New_York:20151018T170000
END:VEVENT
END:VCALENDAR
