BEGIN:VCALENDAR
PRODID:-//eluceo/ical//2.0/EN
VERSION:2.0
CALSCALE:GREGORIAN
BEGIN:VEVENT
UID:7f58fabda091b4675e43ad753963c47c
DTSTAMP:20260420T174313Z
SUMMARY:1PM HOME Jacksonville Jaguars vs. Atlanta Falcons
DESCRIPTION:Jewish Federation & Foundation of Northeast Florida\nCommunity 
 Calendar\nhttps://jewishjacksonville.org/jewish-federation-of-jacksonville
 -calendar/1pm-home-jacksonville-jaguars-vs-atlanta-falcons\n\nHome Game -
  Jacksonville Jaguars vs. Atlanta Falcons
DTSTART;TZID=America/New_York:20151220T130000
DTEND;TZID=America/New_York:20151220T170000
END:VEVENT
END:VCALENDAR
