BEGIN:VCALENDAR
PRODID:-//eluceo/ical//2.0/EN
VERSION:2.0
CALSCALE:GREGORIAN
BEGIN:VEVENT
UID:5088783873795a8eef97f85fb5cf72b3
DTSTAMP:20260420T175654Z
SUMMARY:1PM Beth-El Corned Beef Sandwich Sale
DESCRIPTION:Jewish Federation & Foundation of Northeast Florida\nCommunity 
 Calendar\nhttps://jewishjacksonville.org/jewish-federation-of-jacksonville
 -calendar/1pm-beth-el-corned-beef-sandwich-sale\n\n1PM Beth-El Corned Beef
  Sandwich Sale
DTSTART;TZID=America/New_York:20130412T130000
DTEND;TZID=America/New_York:20130414T180000
END:VEVENT
END:VCALENDAR
