BEGIN:VCALENDAR
PRODID:-//eluceo/ical//2.0/EN
VERSION:2.0
CALSCALE:GREGORIAN
BEGIN:VEVENT
UID:fdd10209ea1516b10e76e3fe81263a6c
DTSTAMP:20260421T112049Z
SUMMARY:1PM AWAY Jacksonville Jaguars at New England Patriots
DESCRIPTION:Jewish Federation & Foundation of Northeast Florida\nCommunity 
 Calendar\nhttps://jewishjacksonville.org/jewish-federation-of-jacksonville
 -calendar/1pm-away-jacksonville-jaguars-at-new-england-patriots\n\nAway Ga
 me - Y Jacksonville Jaguars at New England Patriots
DTSTART;TZID=America/New_York:20150927T130000
DTEND;TZID=America/New_York:20150927T170000
END:VEVENT
END:VCALENDAR
