BEGIN:VCALENDAR
PRODID:-//eluceo/ical//2.0/EN
VERSION:2.0
CALSCALE:GREGORIAN
BEGIN:VEVENT
UID:becb478cdeae10d896b4a129a03dae44
DTSTAMP:20260424T162442Z
SUMMARY:1PM AWAY Jacksonville Jaguars at Houston Texans
DESCRIPTION:Jewish Federation & Foundation of Northeast Florida\nCommunity 
 Calendar\nhttps://jewishjacksonville.org/jewish-federation-of-jacksonville
 -calendar/1pm-away-jacksonville-jaguars-at-houston-texans\n\nAway Game - 
 Jacksonville Jaguars at Houston Texans
DTSTART;TZID=America/New_York:20160103T130000
DTEND;TZID=America/New_York:20160103T170000
END:VEVENT
END:VCALENDAR
