BEGIN:VCALENDAR
PRODID:-//eluceo/ical//2.0/EN
VERSION:2.0
CALSCALE:GREGORIAN
BEGIN:VEVENT
UID:5e15be499e5b76fa020cc1ba1c17dd75
DTSTAMP:20260422T124136Z
SUMMARY:1PM AWAY Jacksonville Jaguars at Baltimore Ravens
DESCRIPTION:Jewish Federation & Foundation of Northeast Florida\nCommunity 
 Calendar\nhttps://jewishjacksonville.org/jewish-federation-of-jacksonville
 -calendar/1pm-away-jacksonville-jaguars-at-baltimore-ravens\n\nAway Game -
  Jacksonville Jaguars at Baltimore Ravens
DTSTART;TZID=America/New_York:20151115T130000
DTEND;TZID=America/New_York:20151115T170000
END:VEVENT
END:VCALENDAR
