BEGIN:VCALENDAR
PRODID:-//eluceo/ical//2.0/EN
VERSION:2.0
CALSCALE:GREGORIAN
BEGIN:VEVENT
UID:5e071c05ee887de46aa710ee0b6bd2d1
DTSTAMP:20260424T094628Z
SUMMARY:1P JCA Theatre of Youth Auditions "Fame Jr."
DESCRIPTION:Jewish Federation & Foundation of Northeast Florida\nCommunity 
 Calendar\nhttps://jewishjacksonville.org/jewish-federation-of-jacksonville
 -calendar/1p-jca-theatre-of-youth-auditions-fame-jr\n\n1P JCA Theatre of Y
 outh Auditions "Fame Jr."
DTSTART;TZID=America/New_York:20130106T000000
DTEND;TZID=America/New_York:20130106T235900
END:VEVENT
END:VCALENDAR
