BEGIN:VCALENDAR
PRODID:-//eluceo/ical//2.0/EN
VERSION:2.0
CALSCALE:GREGORIAN
BEGIN:VEVENT
UID:a191fa660e7843d6b8d8cfcb4381099a
DTSTAMP:20260422T213712Z
SUMMARY:1:30pm Congregation Ahavath Chesed/Yom Kippur/Adult Learning
DESCRIPTION:Jewish Federation & Foundation of Northeast Florida\nCommunity 
 Calendar\nhttps://jewishjacksonville.org/jewish-federation-of-jacksonville
 -calendar/130pm-congregation-ahavath-chesedyom-kippuradult-learning\n\nYom
  Kippur\n\nAdult Learning at Temple\n\nCongregation Ahavath Chesed\n\nWedn
 esday\, October 5th\n\nProgram 1:30 p.m.
DTSTART;TZID=America/New_York:20221005T133000
DTEND;TZID=America/New_York:20221005T143000
END:VEVENT
END:VCALENDAR
