BEGIN:VCALENDAR
PRODID:-//eluceo/ical//2.0/EN
VERSION:2.0
CALSCALE:GREGORIAN
BEGIN:VEVENT
UID:a07b2faf36f5e29d505ee1ebf654f1ff
DTSTAMP:20260420T184340Z
SUMMARY:1:30 PM Temple Sisterhood Bake Mandel Bread with Ann Program via Zo
 om
DESCRIPTION:Jewish Federation & Foundation of Northeast Florida\nCommunity 
 Calendar\nhttps://jewishjacksonville.org/jewish-federation-of-jacksonville
 -calendar/130-pm-sisterhood-cook-mandel-bread-with-ann-stone\n\n
DTSTART;TZID=America/New_York:20200601T133000
DTEND;TZID=America/New_York:20200601T143000
END:VEVENT
END:VCALENDAR
