BEGIN:VCALENDAR
PRODID:-//eluceo/ical//2.0/EN
VERSION:2.0
CALSCALE:GREGORIAN
BEGIN:VEVENT
UID:0113d0b1fda489e3f72e1e85f1f8bf58
DTSTAMP:20260425T190928Z
SUMMARY:1:30 PM JFCS Building Dedication - Allison Stein Robbins Building
DESCRIPTION:Jewish Federation & Foundation of Northeast Florida\nCommunity 
 Calendar\nhttps://jewishjacksonville.org/jewish-federation-of-jacksonville
 -calendar/130-pm-jfcs-building-re-dedication-allison-stein-robbins-buildin
 g\n\nJoin JFCS as we dedicate the DuPont Station Court Building to the Al
 lison Stein Robbins Building. Located at 6261 DuPont Station Court E\, Jac
 ksonville\, FL\, 32217\, this building will serve as the home for the Max 
 Block Food Pantry as well as a new clothing closet for adoptive and foster
  children. \n\nRick Recht will perform. \n\nDedication begins at 1:30 p.
 m.\n\nRSVP is a must.
DTSTART;TZID=America/New_York:20180121T133000
DTEND;TZID=America/New_York:20180121T153000
END:VEVENT
END:VCALENDAR
