BEGIN:VCALENDAR
PRODID:-//eluceo/ical//2.0/EN
VERSION:2.0
CALSCALE:GREGORIAN
BEGIN:VEVENT
UID:b10c99fdb1359867e7c12612ad90afcd
DTSTAMP:20260422T004958Z
SUMMARY:12PM MJGDS Last Day of School
DESCRIPTION:Jewish Federation & Foundation of Northeast Florida\nCommunity 
 Calendar\nhttps://jewishjacksonville.org/jewish-federation-of-jacksonville
 -calendar/12pm-mjgds-last-day-of-school\n\nMJGDS Last Day of School
DTSTART;TZID=America/New_York:20150602T080000
DTEND;TZID=America/New_York:20150602T120000
END:VEVENT
END:VCALENDAR
