BEGIN:VCALENDAR
PRODID:-//eluceo/ical//2.0/EN
VERSION:2.0
CALSCALE:GREGORIAN
BEGIN:VEVENT
UID:348fe24369ec7ef33a40f63124c336f6
DTSTAMP:20260423T162726Z
SUMMARY:12PM Marketing and Development Roundtable Meeting
DESCRIPTION:Jewish Federation & Foundation of Northeast Florida\nCommunity 
 Calendar\nhttps://jewishjacksonville.org/jewish-federation-of-jacksonville
 -calendar/12pm-marketing-and-development-roundtable-meeting\n\nMarketing a
 nd Development Roundtable meeting for agency and synagogue Marketing and D
 evelopment professionals. Lunch will be provided. Meeting is at River Gard
 en Senior Services.\n\n 
DTSTART;TZID=America/New_York:20160810T120000
DTEND;TZID=America/New_York:20160810T130000
END:VEVENT
END:VCALENDAR
