BEGIN:VCALENDAR
PRODID:-//eluceo/ical//2.0/EN
VERSION:2.0
CALSCALE:GREGORIAN
BEGIN:VEVENT
UID:41583830e437066a457261d05139f66b
DTSTAMP:20260426T032004Z
SUMMARY:3pm Yom Ha’Atzmaut Community Celebration
DESCRIPTION:Jewish Federation & Foundation of Northeast Florida\nCommunity 
 Calendar\nhttps://jewishjacksonville.org/jewish-federation-of-jacksonville
 -calendar/12pm-jffnf-yom-haatzmaut-community-celebration\n\nYom Ha’Atzma
 ut Community Celebration at Etz Chaim Synagogue \nSunday\, May 19 3-6pm\
 n \n\nContact: jaxshlichut@jewishjacksonville.org
DTSTART;TZID=America/New_York:20240519T150000
DTEND;TZID=America/New_York:20240519T180000
END:VEVENT
END:VCALENDAR
