BEGIN:VCALENDAR
PRODID:-//eluceo/ical//2.0/EN
VERSION:2.0
CALSCALE:GREGORIAN
BEGIN:VEVENT
UID:7d4d0cc2c1438c9ce65d54b91ce63eb0
DTSTAMP:20260424T050359Z
SUMMARY:12pm JFFNF WP Champagne Brunch Committee Meeting
DESCRIPTION:Jewish Federation & Foundation of Northeast Florida\nCommunity 
 Calendar\nhttps://jewishjacksonville.org/jewish-federation-of-jacksonville
 -calendar/12pm-jffnf-wp-champagne-brunch-committee-meeting\n\nJFFNF Women'
 s Philanthropy Champagne Brunch Committee Meeting\n\nlaurenr@jewishjackson
 ville.org
DTSTART;TZID=America/New_York:20231004T120000
DTEND;TZID=America/New_York:20231004T133000
END:VEVENT
END:VCALENDAR
