BEGIN:VCALENDAR
PRODID:-//eluceo/ical//2.0/EN
VERSION:2.0
CALSCALE:GREGORIAN
BEGIN:VEVENT
UID:b0cc77a8f6c3e1f23e1e2b5e39701907
DTSTAMP:20260424T203311Z
SUMMARY:12pm JFFNF Women's Philanthropy Steering Committee Meeting
DESCRIPTION:Jewish Federation & Foundation of Northeast Florida\nCommunity 
 Calendar\nhttps://jewishjacksonville.org/jewish-federation-of-jacksonville
 -calendar/12pm-jffnf-womens-philanthropy-steering-committee-meeting\n\nJFF
 NF Women's Philanthropy Steering Committee Meeting\n\nlaurenr@jewishjackso
 nville.org
DTSTART;TZID=America/New_York:20240117T120000
DTEND;TZID=America/New_York:20240117T130000
END:VEVENT
END:VCALENDAR
