BEGIN:VCALENDAR
PRODID:-//eluceo/ical//2.0/EN
VERSION:2.0
CALSCALE:GREGORIAN
BEGIN:VEVENT
UID:c5962e75933693fab75d7f76368972fa
DTSTAMP:20260420T174213Z
SUMMARY:12pm Federation  Women's Philanthropy Steering Committee Meeting
DESCRIPTION:Jewish Federation & Foundation of Northeast Florida\nCommunity 
 Calendar\nhttps://jewishjacksonville.org/jewish-federation-of-jacksonville
 -calendar/12pm-federation-womens-philanthropy-steering-committee-meeting\n
 \nWomen's Philanthropy Steering Comittee Meeting \n\n12:00 pm JCA 
DTSTART;TZID=America/New_York:20210901T120000
DTEND;TZID=America/New_York:20210901T130000
END:VEVENT
END:VCALENDAR
