BEGIN:VCALENDAR
PRODID:-//eluceo/ical//2.0/EN
VERSION:2.0
CALSCALE:GREGORIAN
BEGIN:VEVENT
UID:f81008802c3c507e9f526164b260f889
DTSTAMP:20260423T023941Z
SUMMARY:12AM Temple Bat Mitzvah
DESCRIPTION:Jewish Federation & Foundation of Northeast Florida\nCommunity 
 Calendar\nhttps://jewishjacksonville.org/jewish-federation-of-jacksonville
 -calendar/12am-temple-bat-mitzvah9\n\nTemple Bat Mitzvah
DTSTART;TZID=America/New_York:20160805T000000
DTEND;TZID=America/New_York:20160806T235500
END:VEVENT
END:VCALENDAR
