BEGIN:VCALENDAR
PRODID:-//eluceo/ical//2.0/EN
VERSION:2.0
CALSCALE:GREGORIAN
BEGIN:VEVENT
UID:29d03bc1f9cf351798b3385af92f6093
DTSTAMP:20260423T210305Z
SUMMARY:12AM Temple Bat Mitzvah
DESCRIPTION:Jewish Federation & Foundation of Northeast Florida\nCommunity 
 Calendar\nhttps://jewishjacksonville.org/jewish-federation-of-jacksonville
 -calendar/12am-temple-bat-mitzvah3\n\nTemple Bat Mitzvah
DTSTART;TZID=America/New_York:20150828T000000
DTEND;TZID=America/New_York:20150829T235500
END:VEVENT
END:VCALENDAR
