BEGIN:VCALENDAR
PRODID:-//eluceo/ical//2.0/EN
VERSION:2.0
CALSCALE:GREGORIAN
BEGIN:VEVENT
UID:8ba03504c58ded57bdd97dc79fc5cff0
DTSTAMP:20260422T230850Z
SUMMARY:12AM MJGDS Intergenerational Day
DESCRIPTION:Jewish Federation & Foundation of Northeast Florida\nCommunity 
 Calendar\nhttps://jewishjacksonville.org/jewish-federation-of-jacksonville
 -calendar/12am-mjgds-intergenerational-day\n\nMJGDS Intergenerational Day 
 - More details to follow.
DTSTART;TZID=America/New_York:20141126T000000
DTEND;TZID=America/New_York:20141126T235500
END:VEVENT
END:VCALENDAR
