BEGIN:VCALENDAR
PRODID:-//eluceo/ical//2.0/EN
VERSION:2.0
CALSCALE:GREGORIAN
BEGIN:VEVENT
UID:6c81e6988c7ec1fdc17fcf4b9a91cbda
DTSTAMP:20260424T001534Z
SUMMARY:12AM JJC Lifecycle Event - Zimmerman Bat Mitzvah
DESCRIPTION:Jewish Federation & Foundation of Northeast Florida\nCommunity 
 Calendar\nhttps://jewishjacksonville.org/jewish-federation-of-jacksonville
 -calendar/12am-jjc-lifecycle-event---zimmerman-bat-mitzvah-8500\n\n12AM Zi
 mmerman Bat Mitzvah
DTSTART;TZID=America/New_York:20140516T000000
DTEND;TZID=America/New_York:20140516T235900
END:VEVENT
END:VCALENDAR
