BEGIN:VCALENDAR
PRODID:-//eluceo/ical//2.0/EN
VERSION:2.0
CALSCALE:GREGORIAN
BEGIN:VEVENT
UID:82c25bcb782846c37409136ff349911d
DTSTAMP:20260425T165009Z
SUMMARY:12AM JJC Lifecycle Event - Wajsman Bat Mitzvah
DESCRIPTION:Jewish Federation & Foundation of Northeast Florida\nCommunity 
 Calendar\nhttps://jewishjacksonville.org/jewish-federation-of-jacksonville
 -calendar/12am-jjc-lifecycle-event---wajsman-bat-mitzvah-8499\n\n12AM Wajs
 man Bat Mitzvah
DTSTART;TZID=America/New_York:20140509T000000
DTEND;TZID=America/New_York:20140509T235900
END:VEVENT
END:VCALENDAR
