BEGIN:VCALENDAR
PRODID:-//eluceo/ical//2.0/EN
VERSION:2.0
CALSCALE:GREGORIAN
BEGIN:VEVENT
UID:2b6b13fb04c7cc67030f6d19374fee65
DTSTAMP:20260422T073045Z
SUMMARY:12AM JJC Joshua Feig Bar Mitzvah
DESCRIPTION:Jewish Federation & Foundation of Northeast Florida\nCommunity 
 Calendar\nhttps://jewishjacksonville.org/jewish-federation-of-jacksonville
 -calendar/12am-jjc-joshua-feig-bar-mitzvah\n\n12AM JJC Joshua Feig Bar Mit
 zvah
DTSTART;TZID=America/New_York:20130809T000000
DTEND;TZID=America/New_York:20130809T235900
END:VEVENT
END:VCALENDAR
