BEGIN:VCALENDAR
PRODID:-//eluceo/ical//2.0/EN
VERSION:2.0
CALSCALE:GREGORIAN
BEGIN:VEVENT
UID:47ac06ececcd431f2734f738e35dc6b6
DTSTAMP:20260425T223854Z
SUMMARY:12AM Federation office closed in observance of New Years Day
DESCRIPTION:Jewish Federation & Foundation of Northeast Florida\nCommunity 
 Calendar\nhttps://jewishjacksonville.org/jewish-federation-of-jacksonville
 -calendar/12am-federation-office-closed-in-observance-of-new-years-day\n\n
 Federation office closed.
DTSTART;TZID=America/New_York:20160101T000000
DTEND;TZID=America/New_York:20160101T235500
END:VEVENT
END:VCALENDAR
