BEGIN:VCALENDAR
PRODID:-//eluceo/ical//2.0/EN
VERSION:2.0
CALSCALE:GREGORIAN
BEGIN:VEVENT
UID:4fab7b985d241d17ac3016564b355ef7
DTSTAMP:20260421T081902Z
SUMMARY:12AM Federation Office Closed in observance of Memorial Day
DESCRIPTION:Jewish Federation & Foundation of Northeast Florida\nCommunity 
 Calendar\nhttps://jewishjacksonville.org/jewish-federation-of-jacksonville
 -calendar/12am-federation-office-closed-in-observance-of-memorial-day\n\nF
 ederation office closed in honor of Memorial Day.
DTSTART;TZID=America/New_York:20160530T000000
DTEND;TZID=America/New_York:20160530T235959
END:VEVENT
END:VCALENDAR
