BEGIN:VCALENDAR
PRODID:-//eluceo/ical//2.0/EN
VERSION:2.0
CALSCALE:GREGORIAN
BEGIN:VEVENT
UID:a287a2f6f835ecab0ee1ce977ac2390b
DTSTAMP:20260422T143237Z
SUMMARY:12AM Duval/St. Johns County Schools Winter Break
DESCRIPTION:Jewish Federation & Foundation of Northeast Florida\nCommunity 
 Calendar\nhttps://jewishjacksonville.org/jewish-federation-of-jacksonville
 -calendar/12am-duvalst-johns-county-schools-winter-break\n\nDuval/St. John
 s County Schools Winter Break
DTSTART;TZID=America/New_York:20151221T000000
DTEND;TZID=America/New_York:20160103T235500
END:VEVENT
END:VCALENDAR
