BEGIN:VCALENDAR
PRODID:-//eluceo/ical//2.0/EN
VERSION:2.0
CALSCALE:GREGORIAN
BEGIN:VEVENT
UID:8fa980fc41c7f064794532f879fb3e48
DTSTAMP:20260422T213633Z
SUMMARY:Beth El Bar Mitzvah
DESCRIPTION:Jewish Federation & Foundation of Northeast Florida\nCommunity 
 Calendar\nhttps://jewishjacksonville.org/jewish-federation-of-jacksonville
 -calendar/12am-beth-el-bar-mitzvah-175642\n\nBar Mitzvah at Beth El the Be
 aches Synagogue
DTSTART;TZID=America/New_York:20160109T100000
DTEND;TZID=America/New_York:20160109T120000
END:VEVENT
END:VCALENDAR
