BEGIN:VCALENDAR
PRODID:-//eluceo/ical//2.0/EN
VERSION:2.0
CALSCALE:GREGORIAN
BEGIN:VEVENT
UID:8d24d33f3fe46920a57945d327c9974b
DTSTAMP:20260423T054605Z
SUMMARY:12AM AIPAC's National Policy Conference 2016
DESCRIPTION:Jewish Federation & Foundation of Northeast Florida\nCommunity 
 Calendar\nhttps://jewishjacksonville.org/jewish-federation-of-jacksonville
 -calendar/12am-aipacs-national-policy-conference-2016\n\nVenue: Washington
 \, DC\n\nMajor 3-day program\, multiple speakers and programming\n\nCall E
 lana Rickel or Nina Uribe for more information\n\nerickel@aipac.org\, Nur
 ibe@aipac.org 954-382-6110
DTSTART;TZID=America/New_York:20160320T120000
DTEND;TZID=America/New_York:20160322T235500
END:VEVENT
END:VCALENDAR
