BEGIN:VCALENDAR
PRODID:-//eluceo/ical//2.0/EN
VERSION:2.0
CALSCALE:GREGORIAN
BEGIN:VEVENT
UID:eea947aaa8166811f194fff875b6125d
DTSTAMP:20260424T202504Z
SUMMARY:12:20 PM Jacksonville Jewish Center Search for Chometz by 12:29 PM
DESCRIPTION:Jewish Federation & Foundation of Northeast Florida\nCommunity 
 Calendar\nhttps://jewishjacksonville.org/jewish-federation-of-jacksonville
 -calendar/1220-pm-jacksonville-jewish-center-search-for-chometz-by-1229-pm
 \n\nSell or Burn for Hametz by 12:29 pm\n\nhttps://www.jaxjewishcenter.org
 /engage/full-calendar/
DTSTART;TZID=America/New_York:20210326T122000
DTEND;TZID=America/New_York:20210326T123000
END:VEVENT
END:VCALENDAR
